BEGIN:VCALENDAR
VERSION:2.0
PRODID:-//Bike and Hike Northland - ECPv6.15.20//NONSGML v1.0//EN
CALSCALE:GREGORIAN
METHOD:PUBLISH
X-ORIGINAL-URL:https://bikeandhikenorthland.org.nz
X-WR-CALDESC:Events for Bike and Hike Northland
REFRESH-INTERVAL;VALUE=DURATION:PT1H
X-Robots-Tag:noindex
X-PUBLISHED-TTL:PT1H
BEGIN:VTIMEZONE
TZID:Pacific/Auckland
BEGIN:STANDARD
TZOFFSETFROM:+1300
TZOFFSETTO:+1200
TZNAME:NZST
DTSTART:20250405T140000
END:STANDARD
BEGIN:DAYLIGHT
TZOFFSETFROM:+1200
TZOFFSETTO:+1300
TZNAME:NZDT
DTSTART:20250927T140000
END:DAYLIGHT
BEGIN:STANDARD
TZOFFSETFROM:+1300
TZOFFSETTO:+1200
TZNAME:NZST
DTSTART:20260404T140000
END:STANDARD
BEGIN:DAYLIGHT
TZOFFSETFROM:+1200
TZOFFSETTO:+1300
TZNAME:NZDT
DTSTART:20260926T140000
END:DAYLIGHT
BEGIN:STANDARD
TZOFFSETFROM:+1300
TZOFFSETTO:+1200
TZNAME:NZST
DTSTART:20270403T140000
END:STANDARD
BEGIN:DAYLIGHT
TZOFFSETFROM:+1200
TZOFFSETTO:+1300
TZNAME:NZDT
DTSTART:20270925T140000
END:DAYLIGHT
END:VTIMEZONE
BEGIN:VEVENT
DTSTART;TZID=Pacific/Auckland:20260222T083000
DTEND;TZID=Pacific/Auckland:20260222T120000
DTSTAMP:20260423T090323
CREATED:20260204T204402Z
LAST-MODIFIED:20260204T204402Z
UID:2877-1771749000-1771761600@bikeandhikenorthland.org.nz
SUMMARY:Ruatangata Road Mini Tour - 3 Stages
DESCRIPTION:Start Ruatangata Community Hall \nJuniors two stages \nSeniors 3 Stages
URL:https://bikeandhikenorthland.org.nz/event/ruatangata-road-mini-tour-3-stages/
LOCATION:Ruatangata Coomunity Hall\, 1190 Pipiwai Road\, Ruatangata West\, 0176\, New Zealand
CATEGORIES:Road Cycling
ATTACH;FMTTYPE=image/jpeg:https://bikeandhikenorthland.org.nz/wp-content/uploads/2026/02/Early-2026-events.jpg
ORGANIZER;CN="Whangarei Marsden Wheelers":MAILTO:info@marsdenwheelers.co.nz
END:VEVENT
END:VCALENDAR