BEGIN:VCALENDAR
VERSION:2.0
PRODID:-//Bike and Hike Northland - ECPv6.15.20//NONSGML v1.0//EN
CALSCALE:GREGORIAN
METHOD:PUBLISH
X-ORIGINAL-URL:https://bikeandhikenorthland.org.nz
X-WR-CALDESC:Events for Bike and Hike Northland
REFRESH-INTERVAL;VALUE=DURATION:PT1H
X-Robots-Tag:noindex
X-PUBLISHED-TTL:PT1H
BEGIN:VTIMEZONE
TZID:Pacific/Auckland
BEGIN:STANDARD
TZOFFSETFROM:+1300
TZOFFSETTO:+1200
TZNAME:NZST
DTSTART:20250405T140000
END:STANDARD
BEGIN:DAYLIGHT
TZOFFSETFROM:+1200
TZOFFSETTO:+1300
TZNAME:NZDT
DTSTART:20250927T140000
END:DAYLIGHT
BEGIN:STANDARD
TZOFFSETFROM:+1300
TZOFFSETTO:+1200
TZNAME:NZST
DTSTART:20260404T140000
END:STANDARD
BEGIN:DAYLIGHT
TZOFFSETFROM:+1200
TZOFFSETTO:+1300
TZNAME:NZDT
DTSTART:20260926T140000
END:DAYLIGHT
BEGIN:STANDARD
TZOFFSETFROM:+1300
TZOFFSETTO:+1200
TZNAME:NZST
DTSTART:20270403T140000
END:STANDARD
BEGIN:DAYLIGHT
TZOFFSETFROM:+1200
TZOFFSETTO:+1300
TZNAME:NZDT
DTSTART:20270925T140000
END:DAYLIGHT
END:VTIMEZONE
BEGIN:VEVENT
DTSTART;TZID=Pacific/Auckland:20260210T180000
DTEND;TZID=Pacific/Auckland:20260210T200000
DTSTAMP:20260423T070903
CREATED:20260204T203328Z
LAST-MODIFIED:20260204T203328Z
UID:2876-1770746400-1770753600@bikeandhikenorthland.org.nz
SUMMARY:Tuesday night Criterium Racing - Summer 2026
DESCRIPTION:Every Tuesday evening during daylight savings spring and summer\, with Thursdays as a backup day if weather not good on Tuesday. \nA friendly low-key way to experience Criterium Racing on a purpose-built track. \nWarm-ups start from 5:30pm with rolling Criterium start at 6:15pm. \nAll levels of experience and capability welcome – participation first priority. \nCommunication about cancellations communicated via Whats app group Crit & Circuit Cycling
URL:https://bikeandhikenorthland.org.nz/event/tuesday-night-criterium-racing-summer-2026/
LOCATION:Pohe Island Bike Park\, 107 Dave Culham Drive\, Whangarei\, New Zealand
CATEGORIES:Open,Road Cycling
ATTACH;FMTTYPE=image/webp:https://bikeandhikenorthland.org.nz/wp-content/uploads/2025/10/Criterium-racing-image.webp
END:VEVENT
END:VCALENDAR